BEGIN:VCALENDAR
VERSION:2.0
PRODID:-//ISC2 Chicago - ECPv6.15.20//NONSGML v1.0//EN
CALSCALE:GREGORIAN
METHOD:PUBLISH
X-ORIGINAL-URL:https://isc2chicago.org
X-WR-CALDESC:Events for ISC2 Chicago
REFRESH-INTERVAL;VALUE=DURATION:PT1H
X-Robots-Tag:noindex
X-PUBLISHED-TTL:PT1H
BEGIN:VTIMEZONE
TZID:America/Chicago
BEGIN:DAYLIGHT
TZOFFSETFROM:-0600
TZOFFSETTO:-0500
TZNAME:CDT
DTSTART:20250309T080000
END:DAYLIGHT
BEGIN:STANDARD
TZOFFSETFROM:-0500
TZOFFSETTO:-0600
TZNAME:CST
DTSTART:20251102T070000
END:STANDARD
BEGIN:DAYLIGHT
TZOFFSETFROM:-0600
TZOFFSETTO:-0500
TZNAME:CDT
DTSTART:20260308T080000
END:DAYLIGHT
BEGIN:STANDARD
TZOFFSETFROM:-0500
TZOFFSETTO:-0600
TZNAME:CST
DTSTART:20261101T070000
END:STANDARD
BEGIN:DAYLIGHT
TZOFFSETFROM:-0600
TZOFFSETTO:-0500
TZNAME:CDT
DTSTART:20270314T080000
END:DAYLIGHT
BEGIN:STANDARD
TZOFFSETFROM:-0500
TZOFFSETTO:-0600
TZNAME:CST
DTSTART:20271107T070000
END:STANDARD
END:VTIMEZONE
BEGIN:VEVENT
DTSTART;TZID=America/Chicago:20260423T170000
DTEND;TZID=America/Chicago:20260423T190000
DTSTAMP:20260420T010057
CREATED:20260408T140258Z
LAST-MODIFIED:20260408T140258Z
UID:101477-1776963600-1776970800@isc2chicago.org
SUMMARY:ISC2 Chicago Professional Event: When Security Sucks: Lessons from the Robot Vacuum Breach
DESCRIPTION:ISC2 Chicago Professional Event: What 7\,000 Robot Vacuums Have to Say About Enterprise Security \nMost breach stories start with something dramatic: a sophisticated attacker\, a critical zero-day\, maybe a few tense executive calls. \nThis one started with a guy trying to connect his robot vacuum to a PlayStation controller. \nIn this chapter meeting\, we’ll walk through the strange-but-very-real incident where security researcher Sammy Azdoufal accidentally discovered access to thousands of robot vacuums and the sensitive data behind them. What was exposed? How did a consumer gadget turn into a cloud security case study? And what could have happened if the person who found it had been malicious instead of responsible? \nMore importantly\, we’ll translate this bizarre headline into practical lessons for security professionals in financial services\, government\, healthcare\, and other enterprise environments. We’ll cover cloud authorization failures\, vendor risk\, data exposure\, connected-device security\, and why “smart” devices deserve the same skepticism as any other endpoint on your network. \nWe hope you’ll join us for our presentation on this very sucky topic. \nWhere? \nCisco @ The Old Post Office\n433 W. Van Buren St.\nChicago\, IL \nWhen? \nThursday April 23\, 20265:00PM to 7:00PMPlease plan to arrive on time to ensure you receive your automatic CPEs!
URL:https://isc2chicago.org/event/isc2-chicago-professional-event-when-security-sucks-lessons-from-the-robot-vacuum-breach/
LOCATION:IL
END:VEVENT
END:VCALENDAR