BEGIN:VCALENDAR
VERSION:2.0
PRODID:-//ISC2 Chicago - ECPv6.15.20//NONSGML v1.0//EN
CALSCALE:GREGORIAN
METHOD:PUBLISH
X-WR-CALNAME:ISC2 Chicago
X-ORIGINAL-URL:https://isc2chicago.org
X-WR-CALDESC:Events for ISC2 Chicago
REFRESH-INTERVAL;VALUE=DURATION:PT1H
X-Robots-Tag:noindex
X-PUBLISHED-TTL:PT1H
BEGIN:VTIMEZONE
TZID:America/Chicago
BEGIN:DAYLIGHT
TZOFFSETFROM:-0600
TZOFFSETTO:-0500
TZNAME:CDT
DTSTART:20240310T080000
END:DAYLIGHT
BEGIN:STANDARD
TZOFFSETFROM:-0500
TZOFFSETTO:-0600
TZNAME:CST
DTSTART:20241103T070000
END:STANDARD
BEGIN:DAYLIGHT
TZOFFSETFROM:-0600
TZOFFSETTO:-0500
TZNAME:CDT
DTSTART:20250309T080000
END:DAYLIGHT
BEGIN:STANDARD
TZOFFSETFROM:-0500
TZOFFSETTO:-0600
TZNAME:CST
DTSTART:20251102T070000
END:STANDARD
BEGIN:DAYLIGHT
TZOFFSETFROM:-0600
TZOFFSETTO:-0500
TZNAME:CDT
DTSTART:20260308T080000
END:DAYLIGHT
BEGIN:STANDARD
TZOFFSETFROM:-0500
TZOFFSETTO:-0600
TZNAME:CST
DTSTART:20261101T070000
END:STANDARD
END:VTIMEZONE
BEGIN:VEVENT
DTSTART;TZID=America/Chicago:20251120T170000
DTEND;TZID=America/Chicago:20251120T190000
DTSTAMP:20260420T081050
CREATED:20251014T002449Z
LAST-MODIFIED:20251014T002449Z
UID:101327-1763658000-1763665200@isc2chicago.org
SUMMARY:ISC2 Chicago Networking Event - November 20th\, 2025
DESCRIPTION:Come join fellow chapter members and industry professionals for happy hour and lively discussion on Thursday\, November 20th at our usual place at Theory Chicago. Come have a beer with us and see how you can get involved!\n\n\nWhere?\n\n Theory\n9 W Hubbard St\nChicago\, IL 60654\n\nWhen?\nThursday\, November 20th\, 2025\n5:00 p.m. – 7:00 p.m.\nArrive anytime!
URL:https://isc2chicago.org/event/isc2-chicago-networking-event-november-20th-2025/
LOCATION:Theory\, 9 W. Hubbard St\, Chicago\, IL\, 60654\, United States
ORGANIZER;CN="ISC2 Chicago":MAILTO:info@isc2chicago.org
END:VEVENT
END:VCALENDAR