BEGIN:VCALENDAR
VERSION:2.0
PRODID:-//ISC2 Chicago - ECPv6.15.20//NONSGML v1.0//EN
CALSCALE:GREGORIAN
METHOD:PUBLISH
X-WR-CALNAME:ISC2 Chicago
X-ORIGINAL-URL:https://isc2chicago.org
X-WR-CALDESC:Events for ISC2 Chicago
REFRESH-INTERVAL;VALUE=DURATION:PT1H
X-Robots-Tag:noindex
X-PUBLISHED-TTL:PT1H
BEGIN:VTIMEZONE
TZID:America/Chicago
BEGIN:DAYLIGHT
TZOFFSETFROM:-0600
TZOFFSETTO:-0500
TZNAME:CDT
DTSTART:20240310T080000
END:DAYLIGHT
BEGIN:STANDARD
TZOFFSETFROM:-0500
TZOFFSETTO:-0600
TZNAME:CST
DTSTART:20241103T070000
END:STANDARD
BEGIN:DAYLIGHT
TZOFFSETFROM:-0600
TZOFFSETTO:-0500
TZNAME:CDT
DTSTART:20250309T080000
END:DAYLIGHT
BEGIN:STANDARD
TZOFFSETFROM:-0500
TZOFFSETTO:-0600
TZNAME:CST
DTSTART:20251102T070000
END:STANDARD
BEGIN:DAYLIGHT
TZOFFSETFROM:-0600
TZOFFSETTO:-0500
TZNAME:CDT
DTSTART:20260308T080000
END:DAYLIGHT
BEGIN:STANDARD
TZOFFSETFROM:-0500
TZOFFSETTO:-0600
TZNAME:CST
DTSTART:20261101T070000
END:STANDARD
BEGIN:DAYLIGHT
TZOFFSETFROM:-0600
TZOFFSETTO:-0500
TZNAME:CDT
DTSTART:20270314T080000
END:DAYLIGHT
BEGIN:STANDARD
TZOFFSETFROM:-0500
TZOFFSETTO:-0600
TZNAME:CST
DTSTART:20271107T070000
END:STANDARD
END:VTIMEZONE
BEGIN:VEVENT
DTSTART;TZID=America/Chicago:20250717T170000
DTEND;TZID=America/Chicago:20250717T190000
DTSTAMP:20260420T174534
CREATED:20250622T225210Z
LAST-MODIFIED:20250630T193255Z
UID:101169-1752771600-1752778800@isc2chicago.org
SUMMARY:ISC2 Chicago Professional Event: Taming the Hacker Storm
DESCRIPTION:Taming the Hacker Storm\nAn Interactive Session with Roger Grimes from KnowBe4 \nWe’re excited to welcome Roger Grimes\, renowned cybersecurity expert and Data-Driven Defense Evangelist at KnowBe4\, as our guest speaker. Roger brings over 30 years of computer security expertise\, having worked at industry leaders including Microsoft\, McAfee\, and Foundstone. As an award-winning author of 10 books and over 1\,000 magazine articles\, and weekly security columnist for InfoWorld and CSO magazines since 2005\, Roger is recognized as one of the industry’s most respected voices. \nJoin us for a thought-provoking and interactive session focused on Taming the Hacker Storm — a comprehensive exploration of how we can fundamentally transform Internet security to defeat cybercriminals and malware at scale. We’ll dive deep into the root causes of today’s cybersecurity challenges and examine practical solutions that could revolutionize how we protect ourselves online. \nThis presentation will reveal the ONE BIG UNDERLYING COMPUTER SECURITY PROBLEM that underlies all other cybersecurity issues\, and explore how addressing this fundamental flaw could make the Internet exponentially safer for everyone. We’ll discuss cutting-edge technologies\, including innovative DNS-like services designed to eliminate hacker hiding spots\, and examine what it would take to make cybercriminals a relic of the past. \nWhat You’ll Learn: \n\nThe foundational security problem that enables most cyber attacks\nHow fixing this core issue could transform Internet safety globally\nEmerging technologies that will make it harder for hackers to operate undetected\nPractical steps toward creating a future where ransomware and malware are historical footnotes\nYour role in building a safer digital world for current and future generations\n\nWe’ll examine the current landscape where ransomware cripples hospitals and cities\, where hundreds of millions of dollars are stolen daily\, and where a significant portion of Internet traffic consists of malicious activity. But more importantly\, we’ll focus on actionable solutions and the path forward to dramatically reduce Internet crime. \nExpect an open\, discussion-driven format — bring your experiences\, questions\, and insights as we explore this ambitious vision for cybersecurity’s future. If you’re tired of just hearing about problems and ready to discuss real solutions\, this session is for you! \nFormat: Interactive presentation with extensive Q&A and group discussion. Please arrive promptly as we have a guest speaker.
URL:https://isc2chicago.org/event/isc2-chicago-professional-event-taming-the-hacker-storm/
LOCATION:Theory\, 9 W. Hubbard St\, Chicago\, IL\, 60654\, United States
END:VEVENT
BEGIN:VEVENT
DTSTART;TZID=America/Chicago:20250821T170000
DTEND;TZID=America/Chicago:20250821T190000
DTSTAMP:20260420T174534
CREATED:20250802T095455Z
LAST-MODIFIED:20250818T163337Z
UID:101216-1755795600-1755802800@isc2chicago.org
SUMMARY:ISC2 Chicago Networking Event - August 21st\, 2025
DESCRIPTION:Come join fellow chapter members and industry professionals for happy hour and lively discussion on Thursday\, April 17th at our usual place at Theory Chicago. Come have a beer with us and see how you can get involved!\n\n\nWhere?\n\n Theory\n9 W Hubbard St\nChicago\, IL 60654\n\nWhen?\nThursday\, August 21st\, 2025\n5:00 p.m. – 7:00 p.m.\nArrive anytime!
URL:https://isc2chicago.org/event/isc2-chicago-networking-event/
LOCATION:Theory\, 9 W. Hubbard St\, Chicago\, IL\, 60654\, United States
END:VEVENT
BEGIN:VEVENT
DTSTART;TZID=America/Chicago:20250918T170000
DTEND;TZID=America/Chicago:20250918T190000
DTSTAMP:20260420T174534
CREATED:20250829T222951Z
LAST-MODIFIED:20250908T145046Z
UID:101239-1758214800-1758222000@isc2chicago.org
SUMMARY:ISC2 Chicago Networking Event - September 18th\, 2025
DESCRIPTION:Come join fellow chapter members and industry professionals for happy hour and lively discussion on Thursday\, September 18th at our usual place at Theory Chicago. Come have a beer with us and see how you can get involved!\n\n\nWhere?\n\n Theory\n9 W Hubbard St\nChicago\, IL 60654\n\nWhen?\nThursday\, September 18th\, 2025\n5:00 p.m. – 7:00 p.m.\nArrive anytime!
URL:https://isc2chicago.org/event/isc2-chicago-networking-event-september-18th-2025/
LOCATION:Theory\, 9 W. Hubbard St\, Chicago\, IL\, 60654\, United States
END:VEVENT
BEGIN:VEVENT
DTSTART;TZID=America/Chicago:20251016T170000
DTEND;TZID=America/Chicago:20251016T190000
DTSTAMP:20260420T174534
CREATED:20250829T223824Z
LAST-MODIFIED:20251013T224606Z
UID:101243-1760634000-1760641200@isc2chicago.org
SUMMARY:ISC2 Chicago Chapter Professional Event - Post Quantum Security - October 16th
DESCRIPTION:ISC2 Chicago Professional Event: Post Quantum Security \nIf you don’t live under a rock\, you’ve probably heard that in the not-too-distant future quantum computers may be able to make quick work of many of our encryption algorithms. In this chapter meeting we’ll give a realistic look at this problem\, what’s being done to solve it\, and what (if anything) you need to do to prepare your organization for the post-quantum world. \nWhere? \n200 S. Wacker Dr\, Chicago\nEvent Space provided by TYLin Group – Thank you! \nWhen? \nThursday October 16th\, 2025\n5:00PM to 7:00PM\nPlease plan to arrive on time to ensure you receive your automatic CPEs!
URL:https://isc2chicago.org/event/save-the-date-isc2-chicago-chapter-professional-event-october-16th/
LOCATION:200 S. Wacker Dr.\, Chicago\, 200 S. Wacker Dr\, Chicago\, IL\, 60606\, United States
END:VEVENT
BEGIN:VEVENT
DTSTART;TZID=America/Chicago:20251120T170000
DTEND;TZID=America/Chicago:20251120T190000
DTSTAMP:20260420T174534
CREATED:20251014T002449Z
LAST-MODIFIED:20251014T002449Z
UID:101327-1763658000-1763665200@isc2chicago.org
SUMMARY:ISC2 Chicago Networking Event - November 20th\, 2025
DESCRIPTION:Come join fellow chapter members and industry professionals for happy hour and lively discussion on Thursday\, November 20th at our usual place at Theory Chicago. Come have a beer with us and see how you can get involved!\n\n\nWhere?\n\n Theory\n9 W Hubbard St\nChicago\, IL 60654\n\nWhen?\nThursday\, November 20th\, 2025\n5:00 p.m. – 7:00 p.m.\nArrive anytime!
URL:https://isc2chicago.org/event/isc2-chicago-networking-event-november-20th-2025/
LOCATION:Theory\, 9 W. Hubbard St\, Chicago\, IL\, 60654\, United States
ORGANIZER;CN="ISC2 Chicago":MAILTO:info@isc2chicago.org
END:VEVENT
BEGIN:VEVENT
DTSTART;TZID=America/Chicago:20260115T170000
DTEND;TZID=America/Chicago:20260115T190000
DTSTAMP:20260420T174534
CREATED:20251014T002803Z
LAST-MODIFIED:20251014T002803Z
UID:101331-1768496400-1768503600@isc2chicago.org
SUMMARY:ISC2 Chicago Networking Event - January 15th\, 2026
DESCRIPTION:Come celebrate the New Year with your fellow chapter members and industry professionals for happy hour and lively discussion on Thursday\, January 15th at our usual place at Theory Chicago. Come have a beer with us and see how you can get involved!\n\n\nWhere?\n\n Theory\n9 W Hubbard St\nChicago\, IL 60654\n\nWhen?\nThursday\, January 15th\, 2025\n5:00 p.m. – 7:00 p.m.\nArrive anytime!
URL:https://isc2chicago.org/event/isc2-chicago-networking-event-january-15th-2026/
LOCATION:Theory\, 9 W. Hubbard St\, Chicago\, IL\, 60654\, United States
ORGANIZER;CN="ISC2 Chicago":MAILTO:info@isc2chicago.org
END:VEVENT
BEGIN:VEVENT
DTSTART;TZID=America/Chicago:20260219T180000
DTEND;TZID=America/Chicago:20260219T200000
DTSTAMP:20260420T174534
CREATED:20251123T181332Z
LAST-MODIFIED:20251211T193002Z
UID:101401-1771524000-1771531200@isc2chicago.org
SUMMARY:ISC2 Chicago Chapter Professional Event @ Northwestern University - Inside Cybersecurity Research
DESCRIPTION:Join ISC2 Chicago and MS in Information Technology at Northwestern University for a joint professional event on the university campus in Evanston! ISC2 Chicago members will have the opportunity to join Northwestern University graduate students and faculty for an evening of cybersecurity discussion and networking. Registration will be limited so please RSVP as soon as possible to assure your seat! \nLearn more about MS in Information Technology at Northwestern University \nTopic\nDr. Yan Chen\, Professor of Computer Science at Northwestern University McCormick School of Engineering will present an example of cybersecurity research from an academic perspective\, and discuss the complimentary nature of industry and academia in the cybersecurity industry. \nRegistration\nRegistration is available through Northwestern University website starting December 8th. Seats will be limited! \nLocation\nNorthwestern University Evanston Campus \nThe Guild Lounge in Scott Hall \nNorris University Center \n1999 Campus Drive \nEvanston\, IL\, 60208 \nDetails\nThursday\, February 19th\, 2026 \n6pm to 8pm \nParking information\nTo be shared prior to the event \nCost\nThis event is free for ISC2 Chicago Chapter members \nA light meal will be served.
URL:https://isc2chicago.org/event/isc2-chicago-chapter-professional-event-northwestern-university-inside-cybersecurity-research-february-19th/
LOCATION:Norris University Center\, 1999 Campus Drive\, Evanston\, IL\, 60208\, United States
ORGANIZER;CN="ISC2 Chicago":MAILTO:info@isc2chicago.org
END:VEVENT
BEGIN:VEVENT
DTSTART;TZID=America/Chicago:20260423T170000
DTEND;TZID=America/Chicago:20260423T190000
DTSTAMP:20260420T174534
CREATED:20260408T140258Z
LAST-MODIFIED:20260408T140258Z
UID:101477-1776963600-1776970800@isc2chicago.org
SUMMARY:ISC2 Chicago Professional Event: When Security Sucks: Lessons from the Robot Vacuum Breach
DESCRIPTION:ISC2 Chicago Professional Event: What 7\,000 Robot Vacuums Have to Say About Enterprise Security \nMost breach stories start with something dramatic: a sophisticated attacker\, a critical zero-day\, maybe a few tense executive calls. \nThis one started with a guy trying to connect his robot vacuum to a PlayStation controller. \nIn this chapter meeting\, we’ll walk through the strange-but-very-real incident where security researcher Sammy Azdoufal accidentally discovered access to thousands of robot vacuums and the sensitive data behind them. What was exposed? How did a consumer gadget turn into a cloud security case study? And what could have happened if the person who found it had been malicious instead of responsible? \nMore importantly\, we’ll translate this bizarre headline into practical lessons for security professionals in financial services\, government\, healthcare\, and other enterprise environments. We’ll cover cloud authorization failures\, vendor risk\, data exposure\, connected-device security\, and why “smart” devices deserve the same skepticism as any other endpoint on your network. \nWe hope you’ll join us for our presentation on this very sucky topic. \nWhere? \nCisco @ The Old Post Office\n433 W. Van Buren St.\nChicago\, IL \nWhen? \nThursday April 23\, 20265:00PM to 7:00PMPlease plan to arrive on time to ensure you receive your automatic CPEs!
URL:https://isc2chicago.org/event/isc2-chicago-professional-event-when-security-sucks-lessons-from-the-robot-vacuum-breach/
LOCATION:IL
END:VEVENT
BEGIN:VEVENT
DTSTART;TZID=America/Chicago:20260521T170000
DTEND;TZID=America/Chicago:20260521T190000
DTSTAMP:20260420T174534
CREATED:20260408T152144Z
LAST-MODIFIED:20260408T152144Z
UID:101483-1779382800-1779390000@isc2chicago.org
SUMMARY:ISC2 Chicago Networking Event – May 21st\, 2026
DESCRIPTION:Come celebrate with your fellow chapter members and industry professionals for happy hour and lively discussion on Thursday\, May 21st at our usual place at Theory Chicago. Come have a beer with us and see how you can get involved!\n\n\nWhere?\n\nTheory\n9 W Hubbard St\nChicago\, IL 60654\n\nWhen?\nThursday\, May 21st\, 2026\n5:00 p.m. – 7:00 p.m.\nArrive anytime!
URL:https://isc2chicago.org/event/isc2-chicago-networking-event-may-21st-2026/
LOCATION:Theory\, 9 W. Hubbard St\, Chicago\, IL\, 60654\, United States
ORGANIZER;CN="ISC2 Chicago":MAILTO:info@isc2chicago.org
END:VEVENT
END:VCALENDAR