BEGIN:VCALENDAR
VERSION:2.0
PRODID:-//ISC2 Chicago - ECPv6.15.20//NONSGML v1.0//EN
CALSCALE:GREGORIAN
METHOD:PUBLISH
X-ORIGINAL-URL:https://isc2chicago.org
X-WR-CALDESC:Events for ISC2 Chicago
REFRESH-INTERVAL;VALUE=DURATION:PT1H
X-Robots-Tag:noindex
X-PUBLISHED-TTL:PT1H
BEGIN:VTIMEZONE
TZID:America/Chicago
BEGIN:DAYLIGHT
TZOFFSETFROM:-0600
TZOFFSETTO:-0500
TZNAME:CDT
DTSTART:20250309T080000
END:DAYLIGHT
BEGIN:STANDARD
TZOFFSETFROM:-0500
TZOFFSETTO:-0600
TZNAME:CST
DTSTART:20251102T070000
END:STANDARD
BEGIN:DAYLIGHT
TZOFFSETFROM:-0600
TZOFFSETTO:-0500
TZNAME:CDT
DTSTART:20260308T080000
END:DAYLIGHT
BEGIN:STANDARD
TZOFFSETFROM:-0500
TZOFFSETTO:-0600
TZNAME:CST
DTSTART:20261101T070000
END:STANDARD
BEGIN:DAYLIGHT
TZOFFSETFROM:-0600
TZOFFSETTO:-0500
TZNAME:CDT
DTSTART:20270314T080000
END:DAYLIGHT
BEGIN:STANDARD
TZOFFSETFROM:-0500
TZOFFSETTO:-0600
TZNAME:CST
DTSTART:20271107T070000
END:STANDARD
END:VTIMEZONE
BEGIN:VEVENT
DTSTART;TZID=America/Chicago:20260115T170000
DTEND;TZID=America/Chicago:20260115T190000
DTSTAMP:20260420T062340
CREATED:20251014T002803Z
LAST-MODIFIED:20251014T002803Z
UID:101331-1768496400-1768503600@isc2chicago.org
SUMMARY:ISC2 Chicago Networking Event - January 15th\, 2026
DESCRIPTION:Come celebrate the New Year with your fellow chapter members and industry professionals for happy hour and lively discussion on Thursday\, January 15th at our usual place at Theory Chicago. Come have a beer with us and see how you can get involved!\n\n\nWhere?\n\n Theory\n9 W Hubbard St\nChicago\, IL 60654\n\nWhen?\nThursday\, January 15th\, 2025\n5:00 p.m. – 7:00 p.m.\nArrive anytime!
URL:https://isc2chicago.org/event/isc2-chicago-networking-event-january-15th-2026/
LOCATION:Theory\, 9 W. Hubbard St\, Chicago\, IL\, 60654\, United States
ORGANIZER;CN="ISC2 Chicago":MAILTO:info@isc2chicago.org
END:VEVENT
END:VCALENDAR