BEGIN:VCALENDAR
VERSION:2.0
PRODID:-//ISC2 Chicago - ECPv6.15.20//NONSGML v1.0//EN
CALSCALE:GREGORIAN
METHOD:PUBLISH
X-ORIGINAL-URL:https://isc2chicago.org
X-WR-CALDESC:Events for ISC2 Chicago
REFRESH-INTERVAL;VALUE=DURATION:PT1H
X-Robots-Tag:noindex
X-PUBLISHED-TTL:PT1H
BEGIN:VTIMEZONE
TZID:America/Chicago
BEGIN:DAYLIGHT
TZOFFSETFROM:-0600
TZOFFSETTO:-0500
TZNAME:CDT
DTSTART:20240310T080000
END:DAYLIGHT
BEGIN:STANDARD
TZOFFSETFROM:-0500
TZOFFSETTO:-0600
TZNAME:CST
DTSTART:20241103T070000
END:STANDARD
BEGIN:DAYLIGHT
TZOFFSETFROM:-0600
TZOFFSETTO:-0500
TZNAME:CDT
DTSTART:20250309T080000
END:DAYLIGHT
BEGIN:STANDARD
TZOFFSETFROM:-0500
TZOFFSETTO:-0600
TZNAME:CST
DTSTART:20251102T070000
END:STANDARD
BEGIN:DAYLIGHT
TZOFFSETFROM:-0600
TZOFFSETTO:-0500
TZNAME:CDT
DTSTART:20260308T080000
END:DAYLIGHT
BEGIN:STANDARD
TZOFFSETFROM:-0500
TZOFFSETTO:-0600
TZNAME:CST
DTSTART:20261101T070000
END:STANDARD
END:VTIMEZONE
BEGIN:VEVENT
DTSTART;TZID=America/Chicago:20250717T170000
DTEND;TZID=America/Chicago:20250717T190000
DTSTAMP:20260420T155137
CREATED:20250622T225210Z
LAST-MODIFIED:20250630T193255Z
UID:101169-1752771600-1752778800@isc2chicago.org
SUMMARY:ISC2 Chicago Professional Event: Taming the Hacker Storm
DESCRIPTION:Taming the Hacker Storm\nAn Interactive Session with Roger Grimes from KnowBe4 \nWe’re excited to welcome Roger Grimes\, renowned cybersecurity expert and Data-Driven Defense Evangelist at KnowBe4\, as our guest speaker. Roger brings over 30 years of computer security expertise\, having worked at industry leaders including Microsoft\, McAfee\, and Foundstone. As an award-winning author of 10 books and over 1\,000 magazine articles\, and weekly security columnist for InfoWorld and CSO magazines since 2005\, Roger is recognized as one of the industry’s most respected voices. \nJoin us for a thought-provoking and interactive session focused on Taming the Hacker Storm — a comprehensive exploration of how we can fundamentally transform Internet security to defeat cybercriminals and malware at scale. We’ll dive deep into the root causes of today’s cybersecurity challenges and examine practical solutions that could revolutionize how we protect ourselves online. \nThis presentation will reveal the ONE BIG UNDERLYING COMPUTER SECURITY PROBLEM that underlies all other cybersecurity issues\, and explore how addressing this fundamental flaw could make the Internet exponentially safer for everyone. We’ll discuss cutting-edge technologies\, including innovative DNS-like services designed to eliminate hacker hiding spots\, and examine what it would take to make cybercriminals a relic of the past. \nWhat You’ll Learn: \n\nThe foundational security problem that enables most cyber attacks\nHow fixing this core issue could transform Internet safety globally\nEmerging technologies that will make it harder for hackers to operate undetected\nPractical steps toward creating a future where ransomware and malware are historical footnotes\nYour role in building a safer digital world for current and future generations\n\nWe’ll examine the current landscape where ransomware cripples hospitals and cities\, where hundreds of millions of dollars are stolen daily\, and where a significant portion of Internet traffic consists of malicious activity. But more importantly\, we’ll focus on actionable solutions and the path forward to dramatically reduce Internet crime. \nExpect an open\, discussion-driven format — bring your experiences\, questions\, and insights as we explore this ambitious vision for cybersecurity’s future. If you’re tired of just hearing about problems and ready to discuss real solutions\, this session is for you! \nFormat: Interactive presentation with extensive Q&A and group discussion. Please arrive promptly as we have a guest speaker.
URL:https://isc2chicago.org/event/isc2-chicago-professional-event-taming-the-hacker-storm/
LOCATION:Theory\, 9 W. Hubbard St\, Chicago\, IL\, 60654\, United States
END:VEVENT
END:VCALENDAR